BEGIN:VCALENDAR
VERSION:2.0
PRODID:-//The Conscious Community - ECPv6.15.18//NONSGML v1.0//EN
CALSCALE:GREGORIAN
METHOD:PUBLISH
X-WR-CALNAME:The Conscious Community
X-ORIGINAL-URL:https://theconscious.community
X-WR-CALDESC:Events for The Conscious Community
REFRESH-INTERVAL;VALUE=DURATION:PT1H
X-Robots-Tag:noindex
X-PUBLISHED-TTL:PT1H
BEGIN:VTIMEZONE
TZID:Europe/Madrid
BEGIN:DAYLIGHT
TZOFFSETFROM:+0100
TZOFFSETTO:+0200
TZNAME:CEST
DTSTART:20240331T010000
END:DAYLIGHT
BEGIN:STANDARD
TZOFFSETFROM:+0200
TZOFFSETTO:+0100
TZNAME:CET
DTSTART:20241027T010000
END:STANDARD
BEGIN:DAYLIGHT
TZOFFSETFROM:+0100
TZOFFSETTO:+0200
TZNAME:CEST
DTSTART:20250330T010000
END:DAYLIGHT
BEGIN:STANDARD
TZOFFSETFROM:+0200
TZOFFSETTO:+0100
TZNAME:CET
DTSTART:20251026T010000
END:STANDARD
BEGIN:DAYLIGHT
TZOFFSETFROM:+0100
TZOFFSETTO:+0200
TZNAME:CEST
DTSTART:20260329T010000
END:DAYLIGHT
BEGIN:STANDARD
TZOFFSETFROM:+0200
TZOFFSETTO:+0100
TZNAME:CET
DTSTART:20261025T010000
END:STANDARD
END:VTIMEZONE
BEGIN:VEVENT
DTSTART;TZID=Europe/Madrid:20250517T110000
DTEND;TZID=Europe/Madrid:20250517T170000
DTSTAMP:20260419T162806
CREATED:20250517T064259Z
LAST-MODIFIED:20250517T065800Z
UID:24369-1747479600-1747501200@theconscious.community
SUMMARY:A Day At Juntos Farm
DESCRIPTION:Hadra Pop Up Ibiza				\n				\n					\n				\n		\n					\n		\n				\n				\n					\n	\n	Organizer\n	Maison Soleil\n	\n\n				\n				\n				\n				\n					\n	\n	Date & Time:	\n			June 27\n\n		\n\n\n	\n				\n				\n				\n				\n					\n	\n\n	Categories:	\n		Arts Ibiza Regenerative Festival\, Community Ibiza Regenerative Festival\, Events\, Holistic & Wellness	\n\n				\n				\n				\n				\n					\n	\n	Tags:	\n		\n	dance\,\n\n	ethical\,\n\n	holistic living\,\n\n	ibiza\,\n\n	live music\,\n\n	regenerative\,\n\n	sustainable\n	\n\n				\n				\n				\n		\n				\n					\n				\n		\n					\n				\n							\n					\n				\n						\n				\n									WELCOME TO A DAY OF CONNECTION & TRANSFORMATIONStep into a full-day immersive journey in magical Mountain where where ancestral rhythms\, movement\, and ritual awaken deep presence. Connection Presence Liberation WHAT WE DOHEALING This Hadra pop-up experience is a sacred container—an invitation to disconnect from the digital world and reconnect with the timeless wisdom of Gnawa\, Sufism\, and trance practices. At the heart of this experience is the Gnawa Power Dance & Rising Spirit Ritual\, guided by Moroccan master Nabil Sansi\, who will lead us through the hypnotic pulse of the Gunbri and krakebs into ecstatic states of liberation and unity. Through yoga\, meditation\, breathwork\, and deep presence in nature. We rest\, breathe with the earth\, and return to the body as sacred ground. LEARNING Through silence\, reflection\, and soulful workshops. We open space for inner inquiry\, shared wisdom\, and the rediscovery of ancestral truths. DANCING Into Presence\, liberation\, and joy. From the hypnotic rhythms of Gnawa to the smooth pulse of downtempo beats\, we move from the soul—free\, raw\, and alive. HADRA PEOPLENabil SansiSoleilNanjing DengAnita LinderAdina NicolaSoraya SainzAlvaro Rodriguez Program Schedule FRIDAY JUNE 27THDay activities09 : 00 AM : Arrival and Hadra Portal opening09 : 30 AM : Crystal Cleansing & Intention setting for the day (Fruits and Water will be available)10:00AM-12:00AM: Contemporary Power Dance Gnaoua Rising Spirit by Maalem Nabil Sansi12:30PM-02:00PM: Lunch served by Chef Franco02 : 30 PM – 03 : 30 PM : Individual Acupuncture session04:00PM-05:00PM: Sound Bath session by Nanjing05:30PM-07:00PM: Flow Movement by Anita LinderRest time – 30 Min – Contemplation\, walk in the forest. Evening Activities07 : 30 PM – 08 : 00 PM : Chinese Tea Ceremony by Nanjing08:00PM-08:30PM: Tantra workshop in the Bedouin Tent by Adina08:45PM-10:30PM: Private Diner served by Chef Franco10 : 30 PM – Midnight : The “LILA” – A Mystical Gnaoua Ritual experience with Shibari and Movement performance dance. THE SPACEThe setting Magic Mountain : a private sanctuary in the hills of Ibiza. You’ll have access to:• Shaded forest temple• Spacious Bedouin tent• Beautiful garden dining space • Serene pool areaNo open fires.Music ends at midnight unless using silent disco headphones.Location is private and not publicly shared. THE FOOD BY CHEF FRANCOYour ticket includes two soulful\, plant-based meals:Breakfast – Light and groundingLunch – Mediterranean communal table Dinner – A sensorial\, guided Tantra dinner journey (Ticket Separate)Plus herbal tea and hydrogen water available throughout the day. ADD ON PACK € 150Beautiful curated Hadra Gift Box (shipped 2 weeks before or gifted on the day) includes : Crystal\, Poetry\, Sage\, NotebookPrivate Sauna Access (1H)								\n				\n							\n							\n					\n											\n														\n							\n					\n											\n														\n							\n					\n											\n														\n					\n					\n				\n									FROM THE GOLDEN DUST OF MOROCCO TO THE WHITE SHORES OF IBIZA… AFTER TWO POWERFUL EDITIONS AND A SOULFUL POP-UP IN TULUM\, HADRA ARRIVES ON THE WHITE ISLAND FOR A ONE-DAY IMMERSIVE FUNDRAISER. A SACRED JOURNEY AWAITS — GUIDED BY THE TRANCE OF A GNAWA MASTER\, WEAVING SUFI RHYTHMS THROUGH MUSIC\, MOVEMENT\, AND MYSTICISM. AS NIGHT FALLS\, WE DIVE INTO HEALING RITUALS: CHINESE MEDICINE\, ACUPUNCTURE\, REIKI\, VOICE ACTIVATION\, AND A SACRED TEA CEREMONY — LED BY A DIVINE PRESENCE FROM CHINA AND BERLIN. THE EVENING CULMINATES IN A MYSTICAL CONCERT OF MOVEMENT\, WHERE YOU BECOME PART OF THE RITUAL — A LIVING PULSE IN NATURE’S RHYTHM. HADRA IBIZA IS AN INVITATION TO AWAKEN YOUR SOUL\, RETURN TO YOUR ROOTS\, AND RECONNECT — WITH LOVE\, WITH NATURE\, WITH TRIBE. STEP BEYOND THE ORDINARY. STEP INTO THE SACRED. SOCIAL IMPACT OF HADRA PROJECTGIVING BACK TO THE DESERT THAT INSPIRES US THE HADRA PROJECT IS MORE THAN A GATHERING — IT’S A LIVING BRIDGE BETWEEN WORLDS. ROOTED IN THE ANCESTRAL LANDS OF MERZOUGA\, WHERE OUR JOURNEY BEGAN\, WE HONOR THE NOMADIC COMMUNITIES OF THE MOROCCAN DESERT WHO HAVE PRESERVED WISDOM\, RHYTHM\, AND RESILIENCE FOR GENERATIONS. 10% OF ALL HADRA PROFITS ARE DEDICATED TO GIVING BACK — SUPPORTING LOCAL INITIATIVES THAT UPLIFT THE SOUL OF THE SAHARA: FUNDING EDUCATION AND PROVIDING SCHOOL SUPPLIES FOR NOMADIC CHILDREN SUPPORTING THE PRESERVATION OF BERBER MUSIC\, CRAFTS\, AND ORAL STORYTELLING EMPOWERING LOCAL FAMILIES TO CONTINUE THEIR TRADITIONS IN DIGNITY AND PRIDE BY DANCING WITH US\, HEALING WITH US\, AND JOURNEYING WITH US — YOU BECOME PART OF THIS CIRCLE OF CARE. EVERY TICKET PURCHASED\, EVERY DONATION MADE\, HELPS PROTECT A CULTURE THAT TEACHES US WHAT IT MEANS TO LIVE IN HARMONY WITH THE EARTH\, THE STARS\, AND EACH OTHER. THIS IS OUR TRIBUTE TO THE GUARDIANS OF THE DESERT — TO THOSE WHO CARRY THE ANCIENT SONGS OF WIND\, SAND\, AND SILENCE. TOGETHER\, WE RISE. TOGETHER\, WE REMEMBER. TOGETHER\, WE GIVE BACK. 								\n				\n				\n					\n				\n				\n	\n	Ibiza\n	\n	\n\n\n	Ibiza\,\n\n\n\n	Spain\n\n\n\n\n	+ Google Map \n\n\n	\n					\n						\n	 \n\n\n	\n	 \n\n\n\n	\n\n\n\n		\n	\n				\n				\n				\n				\n					\n	« All Events\n				\n				\n				\n				\n							\n				\n				\n			\n		\n				\n				\n			\n				The Nature of Beauty: insights\, pioneers\, and future visions for a 678Billion Industry			\n		\n				\n					\n			12 June\, 2025		\n				\n		\n		\n			Read More »		\n\n				\n				\n				\n				\n			\n		\n				\n				\n			\n				The Regenerative Path. A Guide to Conscious Living. FREE			\n		\n				\n					\n			22 May\, 2025		\n				\n		\n		\n			Read More »		\n\n				\n				\n				\n				\n			\n		\n				\n				\n			\n				Faire Barcelona & the how-to of sustainable restaurants			\n		\n				\n					\n			6 April\, 2024		\n				\n		\n		\n			Read More »		\n\n				\n				\n				\n				\n			\n		\n				\n				\n			\n				Unlocking Sustainable Journeys: Your Eco-Traveler’s  Tips to Ethical Accommodations Worldwide			\n		\n				\n					\n			24 March\, 2024		\n				\n		\n		\n			Read More »
URL:https://theconscious.community/event/a-day-at-juntos-farm-saturday-may-17/
LOCATION:Juntos Farm\, Ibiza\, Spain
CATEGORIES:Community Ibiza Regenerative Festival,Regeneration
ATTACH;FMTTYPE=image/jpeg:https://theconscious.community/wp-content/uploads/2025/05/juntos-farm-ibiza-event.jpg
END:VEVENT
END:VCALENDAR