BEGIN:VCALENDAR
VERSION:2.0
PRODID:-//The Conscious Community - ECPv6.15.18//NONSGML v1.0//EN
CALSCALE:GREGORIAN
METHOD:PUBLISH
X-WR-CALNAME:The Conscious Community
X-ORIGINAL-URL:https://theconscious.community
X-WR-CALDESC:Events for The Conscious Community
REFRESH-INTERVAL;VALUE=DURATION:PT1H
X-Robots-Tag:noindex
X-PUBLISHED-TTL:PT1H
BEGIN:VTIMEZONE
TZID:Europe/Madrid
BEGIN:DAYLIGHT
TZOFFSETFROM:+0100
TZOFFSETTO:+0200
TZNAME:CEST
DTSTART:20240331T010000
END:DAYLIGHT
BEGIN:STANDARD
TZOFFSETFROM:+0200
TZOFFSETTO:+0100
TZNAME:CET
DTSTART:20241027T010000
END:STANDARD
BEGIN:DAYLIGHT
TZOFFSETFROM:+0100
TZOFFSETTO:+0200
TZNAME:CEST
DTSTART:20250330T010000
END:DAYLIGHT
BEGIN:STANDARD
TZOFFSETFROM:+0200
TZOFFSETTO:+0100
TZNAME:CET
DTSTART:20251026T010000
END:STANDARD
BEGIN:DAYLIGHT
TZOFFSETFROM:+0100
TZOFFSETTO:+0200
TZNAME:CEST
DTSTART:20260329T010000
END:DAYLIGHT
BEGIN:STANDARD
TZOFFSETFROM:+0200
TZOFFSETTO:+0100
TZNAME:CET
DTSTART:20261025T010000
END:STANDARD
END:VTIMEZONE
BEGIN:VEVENT
DTSTART;TZID=Europe/Madrid:20250928T100000
DTEND;TZID=Europe/Madrid:20250928T233000
DTSTAMP:20260419T162822
CREATED:20250914T105147Z
LAST-MODIFIED:20250914T105147Z
UID:30328-1759053600-1759102200@theconscious.community
SUMMARY:Play Kids with Margherita Spangaro
DESCRIPTION:Reserve Your Experiences Here
URL:https://theconscious.community/event/play-kids-with-margherita-spangaro-3/
LOCATION:Boutique Hostal La Curandera de Salinas\, Ctra. Sa Canal de Ses Salines\, Km 5\, Sant Jordi de ses Salines\, Ibiza\, 07818\, Spain
CATEGORIES:Community Ibiza Regenerative Festival,Wellbeing Ibiza Regenerative Festival
ATTACH;FMTTYPE=image/jpeg:https://theconscious.community/wp-content/uploads/2025/07/margherita-spangaro.jpeg
END:VEVENT
BEGIN:VEVENT
DTSTART;TZID=Europe/Madrid:20250928T090000
DTEND;TZID=Europe/Madrid:20250928T100000
DTSTAMP:20260419T162822
CREATED:20250820T003739Z
LAST-MODIFIED:20250914T102310Z
UID:29628-1759050000-1759053600@theconscious.community
SUMMARY:Hatha Yoga with Delia OM
DESCRIPTION:Reserve Your Experiences Here
URL:https://theconscious.community/event/hatha-yoga-delia-om/
LOCATION:Boutique Hostal La Curandera de Salinas\, Ctra. Sa Canal de Ses Salines\, Km 5\, Sant Jordi de ses Salines\, Ibiza\, 07818\, Spain
CATEGORIES:Wellbeing Ibiza Regenerative Festival
ATTACH;FMTTYPE=image/jpeg:https://theconscious.community/wp-content/uploads/2025/07/delia-yoga-alas-de-luz-e1756813525743.jpeg
END:VEVENT
BEGIN:VEVENT
DTSTART;TZID=Europe/Madrid:20250927T180000
DTEND;TZID=Europe/Madrid:20250927T190000
DTSTAMP:20260419T162822
CREATED:20250827T001734Z
LAST-MODIFIED:20250910T214500Z
UID:29938-1758996000-1758999600@theconscious.community
SUMMARY:Sound Healing and Energy Enhancement System (EES) with Deva
DESCRIPTION:Reserve Your Experiences Here
URL:https://theconscious.community/event/sound-healing-and-energy-enhancement-system-ees-with-deva/
LOCATION:Lighhouse Ibiza\, Carrer del Mar\, 6\, Santa Eulària des Riu\, Ibiza\, 07840\, Spain
CATEGORIES:Wellbeing Ibiza Regenerative Festival
ATTACH;FMTTYPE=image/jpeg:https://theconscious.community/wp-content/uploads/2025/08/deva-soud-healing.jpeg
END:VEVENT
BEGIN:VEVENT
DTSTART;TZID=Europe/Madrid:20250927T160000
DTEND;TZID=Europe/Madrid:20250927T170000
DTSTAMP:20260419T162822
CREATED:20250827T000123Z
LAST-MODIFIED:20250913T203123Z
UID:29928-1758988800-1758992400@theconscious.community
SUMMARY:Corporal Regeneration Through Your Roots with Yamuna
DESCRIPTION:Reserve Your Experiences Here
URL:https://theconscious.community/event/corporal-regeneration-through-your-roots-with-yamuna/
LOCATION:Lighhouse Ibiza\, Carrer del Mar\, 6\, Santa Eulària des Riu\, Ibiza\, 07840\, Spain
CATEGORIES:Wellbeing Ibiza Regenerative Festival
ATTACH;FMTTYPE=image/jpeg:https://theconscious.community/wp-content/uploads/2025/08/yanuma-body.jpeg
END:VEVENT
BEGIN:VEVENT
DTSTART;TZID=Europe/Madrid:20250927T123000
DTEND;TZID=Europe/Madrid:20250927T133000
DTSTAMP:20260419T162822
CREATED:20250823T223156Z
LAST-MODIFIED:20250919T092111Z
UID:29839-1758976200-1758979800@theconscious.community
SUMMARY:Support and community through movement with Zara Rutherford
DESCRIPTION:Reserve Your Experiences Here
URL:https://theconscious.community/event/a-network-of-support-and-community-through-movement-with-zara-rutherford/
LOCATION:safragell ibiza Suites & Spa\, Ctra. San Juan Km. 13\,2\, Sant Joan de Lebritja\, Ibiza\, 07812\, Spain
CATEGORIES:Wellbeing Ibiza Regenerative Festival
ATTACH;FMTTYPE=image/jpeg:https://theconscious.community/wp-content/uploads/2025/07/WhatsApp-Image-2025-07-25-at-12.03.48-PM-3-e1753442712592.jpeg
END:VEVENT
BEGIN:VEVENT
DTSTART;TZID=Europe/Madrid:20250927T110000
DTEND;TZID=Europe/Madrid:20250927T123000
DTSTAMP:20260419T162822
CREATED:20250914T093729Z
LAST-MODIFIED:20250919T092430Z
UID:30310-1758970800-1758976200@theconscious.community
SUMMARY:Play Kids with Amalur
DESCRIPTION:Reserve Your Experiences Here
URL:https://theconscious.community/event/play-kids-with-conscious-nanny-2/
LOCATION:safragell ibiza Suites & Spa\, Ctra. San Juan Km. 13\,2\, Sant Joan de Lebritja\, Ibiza\, 07812\, Spain
CATEGORIES:Community Ibiza Regenerative Festival,Wellbeing Ibiza Regenerative Festival
ATTACH;FMTTYPE=image/png:https://theconscious.community/wp-content/uploads/2025/07/Screenshot-2025-09-18-at-07.06.17.png
END:VEVENT
BEGIN:VEVENT
DTSTART;TZID=Europe/Madrid:20250927T110000
DTEND;TZID=Europe/Madrid:20250927T120000
DTSTAMP:20260419T162822
CREATED:20250823T223844Z
LAST-MODIFIED:20250910T220355Z
UID:29842-1758970800-1758974400@theconscious.community
SUMMARY:Sound Healing with Kim Booth
DESCRIPTION:Reserve Your Experiences Here
URL:https://theconscious.community/event/sound-healing-with-kim-booth/
LOCATION:safragell ibiza Suites & Spa\, Ctra. San Juan Km. 13\,2\, Sant Joan de Lebritja\, Ibiza\, 07812\, Spain
CATEGORIES:Wellbeing Ibiza Regenerative Festival
ATTACH;FMTTYPE=image/jpeg:https://theconscious.community/wp-content/uploads/2025/07/Cosmic_Pineapple_Ibiza_KimBooth-e1753439815494.jpg
END:VEVENT
BEGIN:VEVENT
DTSTART;TZID=Europe/Madrid:20250926T213000
DTEND;TZID=Europe/Madrid:20250926T223000
DTSTAMP:20260419T162822
CREATED:20250913T210253Z
LAST-MODIFIED:20250913T210253Z
UID:30278-1758922200-1758925800@theconscious.community
SUMMARY:Live Mass Foxy Bitch
DESCRIPTION:Reserve Your Experiences Here
URL:https://theconscious.community/event/live-mass-foxy-bitch/
LOCATION:Hotel Can Salia ****\, Carrer des Caló\, 108\, Sant Josep de sa Talaia\, Ibiza\, 07829\, Spain
CATEGORIES:Arts Ibiza Regenerative Festival,Wellbeing Ibiza Regenerative Festival
ATTACH;FMTTYPE=image/jpeg:https://theconscious.community/wp-content/uploads/2025/07/foxy-bitch.jpg
END:VEVENT
BEGIN:VEVENT
DTSTART;TZID=Europe/Madrid:20250926T190000
DTEND;TZID=Europe/Madrid:20250926T200000
DTSTAMP:20260419T162822
CREATED:20250913T204557Z
LAST-MODIFIED:20250913T204934Z
UID:30273-1758913200-1758916800@theconscious.community
SUMMARY:Héctor Koa & Kirtan Ibiza
DESCRIPTION:Reserve Your Experiences Here
URL:https://theconscious.community/event/hector-koa-kirtan-ibiza/
LOCATION:Hotel Can Salia ****\, Carrer des Caló\, 108\, Sant Josep de sa Talaia\, Ibiza\, 07829\, Spain
CATEGORIES:Arts Ibiza Regenerative Festival,Wellbeing Ibiza Regenerative Festival
ATTACH;FMTTYPE=image/jpeg:https://theconscious.community/wp-content/uploads/2025/07/hector-koa.jpeg
END:VEVENT
BEGIN:VEVENT
DTSTART;TZID=Europe/Madrid:20250926T110000
DTEND;TZID=Europe/Madrid:20250926T123000
DTSTAMP:20260419T162822
CREATED:20250913T202000Z
LAST-MODIFIED:20250913T202925Z
UID:30267-1758884400-1758889800@theconscious.community
SUMMARY:Play Kids with Margherita Spangaro
DESCRIPTION:Reserve Your Experiences Here
URL:https://theconscious.community/event/play-kids-with-margherita-spangaro/
LOCATION:Hotel Can Salia ****\, Carrer des Caló\, 108\, Sant Josep de sa Talaia\, Ibiza\, 07829\, Spain
CATEGORIES:Community Ibiza Regenerative Festival,Wellbeing Ibiza Regenerative Festival
ATTACH;FMTTYPE=image/jpeg:https://theconscious.community/wp-content/uploads/2025/07/margherita-spangaro.jpeg
END:VEVENT
BEGIN:VEVENT
DTSTART;TZID=Europe/Madrid:20250926T110000
DTEND;TZID=Europe/Madrid:20250926T120000
DTSTAMP:20260419T162822
CREATED:20250819T005943Z
LAST-MODIFIED:20250820T221732Z
UID:29537-1758884400-1758888000@theconscious.community
SUMMARY:EMotion Dance with Juli Burcles
DESCRIPTION:Reserve Your Experiences Here
URL:https://theconscious.community/event/emotion-dance-with-juli-burcles/
LOCATION:Hotel Can Salia ****\, Carrer des Caló\, 108\, Sant Josep de sa Talaia\, Ibiza\, 07829\, Spain
CATEGORIES:Wellbeing Ibiza Regenerative Festival
END:VEVENT
BEGIN:VEVENT
DTSTART;TZID=Europe/Madrid:20250926T090000
DTEND;TZID=Europe/Madrid:20250926T100000
DTSTAMP:20260419T162822
CREATED:20250818T222730Z
LAST-MODIFIED:20250913T202947Z
UID:29449-1758877200-1758880800@theconscious.community
SUMMARY:Breathwok & Meditation with Genia & Bhanga
DESCRIPTION:Reserve Your Experiences Here
URL:https://theconscious.community/event/breathwok-meditation-with-genia-bhanga/
LOCATION:Hotel Can Salia ****\, Carrer des Caló\, 108\, Sant Josep de sa Talaia\, Ibiza\, 07829\, Spain
CATEGORIES:Wellbeing Ibiza Regenerative Festival
ATTACH;FMTTYPE=image/jpeg:https://theconscious.community/wp-content/uploads/2025/07/banhga-gina.jpeg
END:VEVENT
BEGIN:VEVENT
DTSTART;TZID=Europe/Madrid:20250926T080000
DTEND;TZID=Europe/Madrid:20250928T210000
DTSTAMP:20260419T162822
CREATED:20250919T082521Z
LAST-MODIFIED:20250919T095703Z
UID:30533-1758873600-1759093200@theconscious.community
SUMMARY:Reserve Your Experiences Here
DESCRIPTION:Reserve Your Experiences Here
URL:https://theconscious.community/event/reserve-your-experiences-ibiza-regenerative-festival/
CATEGORIES:Arts Ibiza Regenerative Festival,Community Ibiza Regenerative Festival,Courses Ibiza Regenerative Festival,Wellbeing Ibiza Regenerative Festival
END:VEVENT
END:VCALENDAR